BEGIN:VCALENDAR
VERSION:2.0
PRODID:icalendar-ruby
CALSCALE:GREGORIAN
BEGIN:VEVENT
DTSTAMP:20260421T201318Z
UID:57647eff-1bbc-48c4-a701-88110f458614
DTSTART;VALUE=DATE:20201215
DESCRIPTION:Property ID# 496855\, Time: 4:00PM
SUMMARY:Auction for 
END:VEVENT
END:VCALENDAR
